BEGIN:VCALENDAR
VERSION:2.0
PRODID:-//GBQ - ECPv6.15.18//NONSGML v1.0//EN
CALSCALE:GREGORIAN
METHOD:PUBLISH
X-ORIGINAL-URL:https://gbq.com
X-WR-CALDESC:Events for GBQ
REFRESH-INTERVAL;VALUE=DURATION:PT1H
X-Robots-Tag:noindex
X-PUBLISHED-TTL:PT1H
BEGIN:VTIMEZONE
TZID:America/New_York
BEGIN:DAYLIGHT
TZOFFSETFROM:-0500
TZOFFSETTO:-0400
TZNAME:EDT
DTSTART:20190310T070000
END:DAYLIGHT
BEGIN:STANDARD
TZOFFSETFROM:-0400
TZOFFSETTO:-0500
TZNAME:EST
DTSTART:20191103T060000
END:STANDARD
BEGIN:DAYLIGHT
TZOFFSETFROM:-0500
TZOFFSETTO:-0400
TZNAME:EDT
DTSTART:20200308T070000
END:DAYLIGHT
BEGIN:STANDARD
TZOFFSETFROM:-0400
TZOFFSETTO:-0500
TZNAME:EST
DTSTART:20201101T060000
END:STANDARD
BEGIN:DAYLIGHT
TZOFFSETFROM:-0500
TZOFFSETTO:-0400
TZNAME:EDT
DTSTART:20210314T070000
END:DAYLIGHT
BEGIN:STANDARD
TZOFFSETFROM:-0400
TZOFFSETTO:-0500
TZNAME:EST
DTSTART:20211107T060000
END:STANDARD
END:VTIMEZONE
BEGIN:VEVENT
DTSTART;TZID=America/New_York:20201109T130000
DTEND;TZID=America/New_York:20201109T140000
DTSTAMP:20260419T095341
CREATED:20201103T143210Z
LAST-MODIFIED:20201108T165104Z
UID:23940-1604926800-1604930400@gbq.com
SUMMARY:COVID-19: SBA PPP Loans - Paycheck Protection Program Loan Necessity Questionnaire
DESCRIPTION:The new “Paycheck Protection Program Loan Necessity Questionnaire” (Forms 3509 for-profit and 3510 non-profit) has sparked conversations and questions among PPP borrowers. \nJoin our COVID-19 response team as they discuss these forms\, including: \n\nWhat are the forms and who should expect to receive one?\nInformation being requested\nActions to take now\nQ&A from the participants\n\nThe business challenges are changing each day; you can count on GBQ to keep up. \nThis webinar qualifies for 1.0 hour of CPE based on Ohio CPE requirements. \nPlease note our webinar sessions can accommodate a maximum of 500 individuals. Should you experience difficulties accessing the live broadcast\, it is likely due to reaching attendee capacity. For your convenience\, a recording will be made available on our webinar recording webpage following the presentation.
URL:https://gbq.com/event/covid-19-sba-ppp-loans-paycheck-protection-program-loan-necessity-questionnaire/
CATEGORIES:Webinar
ATTACH;FMTTYPE=image/jpeg:https://gbq.com/wp-content/uploads/2020/03/virus-image.jpg
ORGANIZER;CN="Kyrie Bumpus":MAILTO:kbumpus@gbq.com
END:VEVENT
END:VCALENDAR